Workbook
Name Время: INDIRECT(CONCATENATE("Расчеты!$E$20:$E$",241-COUNTIF(Расчеты!$C$2:$C$1904,"<""")+19))
Name Закладка: INDIRECT(CONCATENATE("Расчеты!$I$20:$I$",241-COUNTIF(Расчеты!$C$2:$C$1900,"<""")+19))
Name Нач.темп.Столбец: COLUMN(Теплоакумулятор!XFA1048574)
Name Нач.темп.Строка: ROW(Теплоакумулятор!XFB1)
Name Темп._Мах: INDIRECT(CONCATENATE("Расчеты!$H$20:$H$",241-COUNTIF(Расчеты!$C$2:$C$1898,"<""")+19))
Name Темпер.Мин: INDIRECT(CONCATENATE("Расчеты!$G$20:$G$",241-COUNTIF(Расчеты!$C$2:$C$1900,"<""")+19))
Name ТемператураТА: INDIRECT(CONCATENATE("Расчеты!$F$20:$F$",241-COUNTIF(Расчеты!$C$2:$C$1902,"<""")+19))

Sheet Теплоакумулятор
A1: Теплоемкость воды, кВтч | B1: 0.0011666667 | D1: 1л / 1градус= 4,2кДж=0.0011666666666667 kWh
A2: Теплоемкость кирпича, кВтч | B2: 0.00027777778
A3: Теплотворность одного кг дров, кВт/ч | B3: 4
A4: Плотность металла, кг/м3 | B4: 7850
D7: Утро, когда ТА разрядится до минимума | J7: =ROUND(IF(MAX(Расчеты!K3:K11)+Расчеты!N11/Теплоакумулятор!B9>24,Расчеты!N11/Теплоакумулятор!B9-(24-MAX(Расчеты!K3:K11)),MAX(Расчеты!K3:K11)+Расчеты!N11/Теплоакумулятор!B9),1) -> 12.3
A8: Указываем характеристики котла и ТА | D8: Темп. ТА при первой утренней топке (внесите вручную в поле "Температура ТА) | J8: =Расчеты!M2-Расчеты!G3/(Теплоакумулятор!$B$48*Теплоакумулятор!$B$1) -> 52.42982
A9: Теплопотери дома, кВт/час | B9: 9 | D9: Закдадка | E9: Время начала горения закладки | F9: Время конца горения закладки | G9: Закладка, кг | H9: Температура ТА, нач.топки | I9: Температура ТА, конец топки
A10: Длина ТА, см | B10: 175 | D10: 1 | E10: 8 | F10: =Расчеты!K3 -> 9.5 | G10: 40 | H10: 40 | I10: =IFERROR(Расчеты!N3,"") -> 73.845339
A11: Ширина ТА, см | B11: 80 | D11: 2 | E11: 19 | F11: =Расчеты!K4 -> 20.7 | G11: 45 | H11: =IFERROR(Расчеты!M4,"") -> 46.673729 | I11: =IFERROR(Расчеты!N4,"") -> 84.749735
A12: Высота ТА, см | B12: 60 | D12: 3 | F12: =Расчеты!K5 -> 0 | H12: =IFERROR(Расчеты!M5,"") | I12: =IFERROR(Расчеты!N5,"")
A13: Толщина стенки ТА, мм | B13: 4 | D13: 4 | F13: =Расчеты!K6 -> 0 | H13: =IFERROR(Расчеты!M6,"") | I13: =IFERROR(Расчеты!N6,"")
A14: Температура ТА, мин | B14: 40 | D14: 5 | F14: =Расчеты!K7 -> 0 | H14: =IFERROR(Расчеты!M7,"") | I14: =IFERROR(Расчеты!N7,"")
A15: Температура ТА, макс | B15: 90 | D15: 6 | F15: =Расчеты!K8 -> 0 | H15: =IFERROR(Расчеты!M8,"") | I15: =IFERROR(Расчеты!N8,"")
A16: Мощность горения котла, кВт/час | B16: 80 | D16: 7 | F16: =Расчеты!K9 -> 0 | H16: =IFERROR(Расчеты!M9,"") | I16: =IFERROR(Расчеты!N9,"")
A17: КПД системы отопления, % | B17: 0.75 | D17: 8 | F17: =Расчеты!K10 -> 0 | H17: =IFERROR(Расчеты!M10,"") | I17: =IFERROR(Расчеты!N10,"")
A18: Вместимость (масса) полной закладки для данного котла, кг. | B18: 60
A19: Хочу топить не более чем, Раз в сутки | B19: 1
A20: Закладок дров при каждой топке | B20: 1
A23: =CONCATENATE("Параметры мощного котла и ТА с возможностью топить не более чем ", B19," раза в сутки, делая по ",B20," закладки каждый раз ") -> Параметры мощного котла и ТА с возможностью топить не более чем 1 раза в сутки, делая по 1 закладки каждый раз
A24: Необходимая вместимость топки, кг дров | B24: =B53/(B19*B20) -> 72
A25: Минимальная мощность котла для сжигания полной закладки за час | B25: =B24*B3 -> 288
A26: Необходимый объем ТА (л) | B26: =B9*D26/(B1*(B15-B14)) -> 2160 | C26: на | D26: 14 | E26: часов запаса тепла
A29: Расчет емкости кирпичного тепло аккумулятора
A30: Температурная зона | B30: Масса | C30: Т мин. | D30: Т макс. | E30: Запас теппла, кВт | F30: Водяной эквивалент, л
A31: Шамотное ядро | B31: 300 | C31: 100 | D31: 700 | E31: =(D31-C31)*B31*$B$2 -> 50 | F31: =E31*$B$46/$B$54 -> 857.14286
A32: Верхний колпак | B32: 200 | C32: 100 | D32: 400 | E32: =(D32-C32)*B32*$B$2 -> 16.666667 | F32: =E32*$B$46/$B$54 -> 285.71429
A33: Опускные каналы, верх | B33: 200 | C33: 100 | D33: 300 | E33: =(D33-C33)*B33*$B$2 -> 11.111111 | F33: =E33*$B$46/$B$54 -> 190.47619
A34: Опускные каналы, средняя часть | B34: 200 | C34: 100 | D34: 250 | E34: =(D34-C34)*B34*$B$2 -> 8.3333333 | F34: =E34*$B$46/$B$54 -> 142.85714
A35: Опускные каналы, низ | B35: 200 | C35: 50 | D35: 150 | E35: =(D35-C35)*B35*$B$2 -> 5.5555556 | F35: =E35*$B$46/$B$54 -> 95.238095
A36: Стенка печи | B36: 500 | C36: 30 | D36: 150 | E36: =(D36-C36)*B36*$B$2 -> 16.666667 | F36: =E36*$B$46/$B$54 -> 285.71429
A37: Температурная зона 7 | E37: =(D37-C37)*B37*$B$2 -> 0 | F37: =E37*$B$46/$B$54 -> 0
A38: Температурная зона 8 | E38: =(D38-C38)*B38*$B$2 -> 0 | F38: =E38*$B$46/$B$54 -> 0
A39: Температурная зона 9 | E39: =(D39-C39)*B39*$B$2 -> 0 | F39: =E39*$B$46/$B$54 -> 0
A40: Температурная зона 10 | E40: =(D40-C40)*B40*$B$2 -> 0 | F40: =E40*$B$46/$B$54 -> 0
A41: Всего | B41: =SUM(B31:B36) -> 1600 | E41: =SUM(E31:E36) -> 108.33333 | F41: =SUM(F31:F36) -> 1857.1429
A43: Масса пустого бака и объем воды в вашем водяном ТА
A44: Площадь стенки, м2 | B44: =(B11/100*B10/100)*2+(B11/100*B12/100)*2+(B12/100*B10/100)*2 -> 5.86
A45: Масса пустого бака, кг | B45: =B4*B44*B13/1000 -> 184.004
A46: Масса (объем) теплоносителя, (л) кг | B46: =B10*B11*B12/1000 -> 840
A47: Водяной эквивалент КТА, (л) кг | B47: =F41 -> 1857.1429
A48: Общая масса двух ТА в водяном эквиваленте | B48: =SUM(B46:B47) -> 2697.1429
A51: Режим топки на Вашем котле и ТА
A52: Необходимое количество тепла в сутки при данных теплопотерях, кВт | B52: =24*B9 -> 216
A53: Необходимое количество дров в сутки при данных теплопотерях и КПД системы, кг | B53: =ROUND(B9*24/B3/B17,1) -> 72
A54: Запас энергии ВТА, кВт | B54: =(B15-B14)*B46*B1 -> 49
A55: Запас энергии КТА, кВт | B55: =E41 -> 108.33333
A56: Общий запас энергии ВТА+КТА, кВт | B56: =B54+B55 -> 157.33333
A57: Время зарядки ТА котлом при работающей СО, часов | B57: =IF(B16*B17>B9,B56/((B16*B17)-B9),"") -> 3.0849673
A58: Время разрядки ТА при работающей СО, часов | B58: =B56/B9 -> 17.481481
A59: Масса дров для нагрева ТА от минимальной температуры до максимальной при работающей СО, кг | B59: =IF(B57="","",(B16*B57)/(B3/B17)) -> 46.27451
A60: Суммарное время топки котла в сутки для восполнения теплопотерь, час | B60: =B9*24/(B16*B17) -> 3.6
A61: Время горения полной закладки, часов | B61: =B18/(B16/(B3*B17)) -> 2.25
A62: Количество закладок за сутки для восполнения теплопотерь | B62: =IF($B$18>$B$59,$B$53/$B$59,$B$53/$B$18) -> 1.5559322
A64: Пожелания к ТА и котлу
A65: =IF(B18*(B3*B17)*B19*B20<B52,CONCATENATE("Вашему дому нужен более вместительный котел или ищите кочегара. Т.к. за ",B19," топки по ",B20," закладки каждая, получаете ",B18*(B3*B17)*B19*B20," кВт энергии",", а дому нужно ",B52," кВт в сутки. Нужно часто топить"),IF(B61*B16>B56+B61*B9,CONCATENATE("Вашему котлу нужен ТА большей емкости т.к. за время горения полной закладки выделяется ",B61*B16," кВт/час тепла, а СО и ТА усвоит за это время только ",ROUND(B56+B61*B9,0)," кВт/час"),IF(AND(B62>2,B18*B3*B17-(2*B61*B9)>B56),CONCATENATE("Вашей системе желателен ТА большей емкости, т.к. от двойной полной закладки ТА закипит. Полная двойная закладка даст ", B18*B3*B17," кВт тепла"," Ваш ТА усваивает только ",ROUND(B56,1)),IF((24-B61)/B19>B58+B57,CONCATENATE("Время между топками меньше ",ROUND(B57+B58,0)," часов. Чтобы топить ",B19," раза в сутки необходимо увеличить ТА"),IF(AND(B61>1,B18<B53/2),"Похоже система КОТЕЛ-ТА несбалансирована. Время горения закладки больше часа, но объема закладки не хватает на день (ночь) отопления. Либо мощнее котел, либо котел долгогрей. ","Больше не нужно, можно даже меньше."))))) -> Вашему дому нужен более вместительный котел или ищите кочегара. Т.к. за 1 топки по 1 закладки каждая, получаете 180 кВт энергии, а дому нужно 216 кВт в сутки. Нужно часто топить
D66: =CONCATENATE("Минимально необходимое количество закладок за сутки при теплопотерях дома ",B9," кВт/час.",," За сутки необходимо сжечь ",B53," кг дров с КПД ",B17*100,"%") -> Минимально необходимое количество закладок за сутки при теплопотерях дома 9 кВт/час. За сутки необходимо сжечь 72 кг дров с КПД 75%
D67: Мощность котла, кВт/час
D68: Емкость ТА, л | E68: 10 | F68: 15 | G68: 20 | H68: 30 | I68: 40 | J68: 50 | K68: 70 | L68: 80 | M68: 90 | N68: 100
A69: Водотрубный теплообменник котла | D69: 100 | E69: =IF($B$18>IF(IF(E$68*$B$17>$B$9,(($B$15-$B$14)*$D69*$B$1)/((E$68*$B$17)-$B$9),"")="","",(E$68*IF($B$16*$B$17>$B$9,(($B$15-$B$14)*$D69*$B$1)/((E$68*$B$17)-$B$9),""))/($B$3/$B$17)),($B$9*24/$B$3/$B$17)/IF(IF(E$68*$B$17>$B$9,(($B$15-$B$14)*$D69*$B$1)/((E$68*$B$17)-$B$9),"")="","",(E$68*IF(E$68*$B$17>$B$9,(($B$15-$B$14)*$D69*$B$1)/((E$68*$B$17)-$B$9),""))/($B$3/$B$17)),($B$9*24/$B$3/$B$17)/$B$18) -> 1.2 | F69: =IF($B$18>IF(IF(F$68*$B$17>$B$9,(($B$15-$B$14)*$D69*$B$1)/((F$68*$B$17)-$B$9),"")="","",(F$68*IF($B$16*$B$17>$B$9,(($B$15-$B$14)*$D69*$B$1)/((F$68*$B$17)-$B$9),""))/($B$3/$B$17)),($B$9*24/$B$3/$B$17)/IF(IF(F$68*$B$17>$B$9,(($B$15-$B$14)*$D69*$B$1)/((F$68*$B$17)-$B$9),"")="","",(F$68*IF(F$68*$B$17>$B$9,(($B$15-$B$14)*$D69*$B$1)/((F$68*$B$17)-$B$9),""))/($B$3/$B$17)),($B$9*24/$B$3/$B$17)/$B$18) -> 9.8742857 | G69: =IF($B$18>IF(IF(G$68*$B$17>$B$9,(($B$15-$B$14)*$D69*$B$1)/((G$68*$B$17)-$B$9),"")="","",(G$68*IF($B$16*$B$17>$B$9,(($B$15-$B$14)*$D69*$B$1)/((G$68*$B$17)-$B$9),""))/($B$3/$B$17)),($B$9*24/$B$3/$B$17)/IF(IF(G$68*$B$17>$B$9,(($B$15-$B$14)*$D69*$B$1)/((G$68*$B$17)-$B$9),"")="","",(G$68*IF(G$68*$B$17>$B$9,(($B$15-$B$14)*$D69*$B$1)/((G$68*$B$17)-$B$9),""))/($B$3/$B$17)),($B$9*24/$B$3/$B$17)/$B$18) -> 19.748571 | H69: =IF($B$18>IF(IF(H$68*$B$17>$B$9,(($B$15-$B$14)*$D69*$B$1)/((H$68*$B$17)-$B$9),"")="","",(H$68*IF($B$16*$B$17>$B$9,(($B$15-$B$14)*$D69*$B$1)/((H$68*$B$17)-$B$9),""))/($B$3/$B$17)),($B$9*24/$B$3/$B$17)/IF(IF(H$68*$B$17>$B$9,(($B$15-$B$14)*$D69*$B$1)/((H$68*$B$17)-$B$9),"")="","",(H$68*IF(H$68*$B$17>$B$9,(($B$15-$B$14)*$D69*$B$1)/((H$68*$B$17)-$B$9),""))/($B$3/$B$17)),($B$9*24/$B$3/$B$17)/$B$18) -> 29.622857 | I69: =IF($B$18>IF(IF(I$68*$B$17>$B$9,(($B$15-$B$14)*$D69*$B$1)/((I$68*$B$17)-$B$9),"")="","",(I$68*IF($B$16*$B$17>$B$9,(($B$15-$B$14)*$D69*$B$1)/((I$68*$B$17)-$B$9),""))/($B$3/$B$17)),($B$9*24/$B$3/$B$17)/IF(IF(I$68*$B$17>$B$9,(($B$15-$B$14)*$D69*$B$1)/((I$68*$B$17)-$B$9),"")="","",(I$68*IF(I$68*$B$17>$B$9,(($B$15-$B$14)*$D69*$B$1)/((I$68*$B$17)-$B$9),""))/($B$3/$B$17)),($B$9*24/$B$3/$B$17)/$B$18) -> 34.56 | J69: =IF($B$18>IF(IF(J$68*$B$17>$B$9,(($B$15-$B$14)*$D69*$B$1)/((J$68*$B$17)-$B$9),"")="","",(J$68*IF($B$16*$B$17>$B$9,(($B$15-$B$14)*$D69*$B$1)/((J$68*$B$17)-$B$9),""))/($B$3/$B$17)),($B$9*24/$B$3/$B$17)/IF(IF(J$68*$B$17>$B$9,(($B$15-$B$14)*$D69*$B$1)/((J$68*$B$17)-$B$9),"")="","",(J$68*IF(J$68*$B$17>$B$9,(($B$15-$B$14)*$D69*$B$1)/((J$68*$B$17)-$B$9),""))/($B$3/$B$17)),($B$9*24/$B$3/$B$17)/$B$18) -> 37.522286 | K69: =IF($B$18>IF(IF(K$68*$B$17>$B$9,(($B$15-$B$14)*$D69*$B$1)/((K$68*$B$17)-$B$9),"")="","",(K$68*IF($B$16*$B$17>$B$9,(($B$15-$B$14)*$D69*$B$1)/((K$68*$B$17)-$B$9),""))/($B$3/$B$17)),($B$9*24/$B$3/$B$17)/IF(IF(K$68*$B$17>$B$9,(($B$15-$B$14)*$D69*$B$1)/((K$68*$B$17)-$B$9),"")="","",(K$68*IF(K$68*$B$17>$B$9,(($B$15-$B$14)*$D69*$B$1)/((K$68*$B$17)-$B$9),""))/($B$3/$B$17)),($B$9*24/$B$3/$B$17)/$B$18) -> 40.907755 | L69: =IF($B$18>IF(IF(L$68*$B$17>$B$9,(($B$15-$B$14)*$D69*$B$1)/((L$68*$B$17)-$B$9),"")="","",(L$68*IF($B$16*$B$17>$B$9,(($B$15-$B$14)*$D69*$B$1)/((L$68*$B$17)-$B$9),""))/($B$3/$B$17)),($B$9*24/$B$3/$B$17)/IF(IF(L$68*$B$17>$B$9,(($B$15-$B$14)*$D69*$B$1)/((L$68*$B$17)-$B$9),"")="","",(L$68*IF(L$68*$B$17>$B$9,(($B$15-$B$14)*$D69*$B$1)/((L$68*$B$17)-$B$9),""))/($B$3/$B$17)),($B$9*24/$B$3/$B$17)/$B$18) -> 41.965714 | ... N69: =IF($B$18>IF(IF(N$68*$B$17>$B$9,(($B$15-$B$14)*$D69*$B$1)/((N$68*$B$17)-$B$9),"")="","",(N$68*IF($B$16*$B$17>$B$9,(($B$15-$B$14)*$D69*$B$1)/((N$68*$B$17)-$B$9),""))/($B$3/$B$17)),($B$9*24/$B$3/$B$17)/IF(IF(N$68*$B$17>$B$9,(($B$15-$B$14)*$D69*$B$1)/((N$68*$B$17)-$B$9),"")="","",(N$68*IF(N$68*$B$17>$B$9,(($B$15-$B$14)*$D69*$B$1)/((N$68*$B$17)-$B$9),""))/($B$3/$B$17)),($B$9*24/$B$3/$B$17)/$B$18) -> 43.446857
A70: Съем тепла с одного м2 ТО | B70: 10 | D70: 500 | E70: =IF($B$18>IF(IF(E$68*$B$17>$B$9,(($B$15-$B$14)*$D70*$B$1)/((E$68*$B$17)-$B$9),"")="","",(E$68*IF($B$16*$B$17>$B$9,(($B$15-$B$14)*$D70*$B$1)/((E$68*$B$17)-$B$9),""))/($B$3/$B$17)),($B$9*24/$B$3/$B$17)/IF(IF(E$68*$B$17>$B$9,(($B$15-$B$14)*$D70*$B$1)/((E$68*$B$17)-$B$9),"")="","",(E$68*IF(E$68*$B$17>$B$9,(($B$15-$B$14)*$D70*$B$1)/((E$68*$B$17)-$B$9),""))/($B$3/$B$17)),($B$9*24/$B$3/$B$17)/$B$18) -> 1.2 | F70: =IF($B$18>IF(IF(F$68*$B$17>$B$9,(($B$15-$B$14)*$D70*$B$1)/((F$68*$B$17)-$B$9),"")="","",(F$68*IF($B$16*$B$17>$B$9,(($B$15-$B$14)*$D70*$B$1)/((F$68*$B$17)-$B$9),""))/($B$3/$B$17)),($B$9*24/$B$3/$B$17)/IF(IF(F$68*$B$17>$B$9,(($B$15-$B$14)*$D70*$B$1)/((F$68*$B$17)-$B$9),"")="","",(F$68*IF(F$68*$B$17>$B$9,(($B$15-$B$14)*$D70*$B$1)/((F$68*$B$17)-$B$9),""))/($B$3/$B$17)),($B$9*24/$B$3/$B$17)/$B$18) -> 1.9748571 | G70: =IF($B$18>IF(IF(G$68*$B$17>$B$9,(($B$15-$B$14)*$D70*$B$1)/((G$68*$B$17)-$B$9),"")="","",(G$68*IF($B$16*$B$17>$B$9,(($B$15-$B$14)*$D70*$B$1)/((G$68*$B$17)-$B$9),""))/($B$3/$B$17)),($B$9*24/$B$3/$B$17)/IF(IF(G$68*$B$17>$B$9,(($B$15-$B$14)*$D70*$B$1)/((G$68*$B$17)-$B$9),"")="","",(G$68*IF(G$68*$B$17>$B$9,(($B$15-$B$14)*$D70*$B$1)/((G$68*$B$17)-$B$9),""))/($B$3/$B$17)),($B$9*24/$B$3/$B$17)/$B$18) -> 3.9497143 | H70: =IF($B$18>IF(IF(H$68*$B$17>$B$9,(($B$15-$B$14)*$D70*$B$1)/((H$68*$B$17)-$B$9),"")="","",(H$68*IF($B$16*$B$17>$B$9,(($B$15-$B$14)*$D70*$B$1)/((H$68*$B$17)-$B$9),""))/($B$3/$B$17)),($B$9*24/$B$3/$B$17)/IF(IF(H$68*$B$17>$B$9,(($B$15-$B$14)*$D70*$B$1)/((H$68*$B$17)-$B$9),"")="","",(H$68*IF(H$68*$B$17>$B$9,(($B$15-$B$14)*$D70*$B$1)/((H$68*$B$17)-$B$9),""))/($B$3/$B$17)),($B$9*24/$B$3/$B$17)/$B$18) -> 5.9245714 | I70: =IF($B$18>IF(IF(I$68*$B$17>$B$9,(($B$15-$B$14)*$D70*$B$1)/((I$68*$B$17)-$B$9),"")="","",(I$68*IF($B$16*$B$17>$B$9,(($B$15-$B$14)*$D70*$B$1)/((I$68*$B$17)-$B$9),""))/($B$3/$B$17)),($B$9*24/$B$3/$B$17)/IF(IF(I$68*$B$17>$B$9,(($B$15-$B$14)*$D70*$B$1)/((I$68*$B$17)-$B$9),"")="","",(I$68*IF(I$68*$B$17>$B$9,(($B$15-$B$14)*$D70*$B$1)/((I$68*$B$17)-$B$9),""))/($B$3/$B$17)),($B$9*24/$B$3/$B$17)/$B$18) -> 6.912 | J70: =IF($B$18>IF(IF(J$68*$B$17>$B$9,(($B$15-$B$14)*$D70*$B$1)/((J$68*$B$17)-$B$9),"")="","",(J$68*IF($B$16*$B$17>$B$9,(($B$15-$B$14)*$D70*$B$1)/((J$68*$B$17)-$B$9),""))/($B$3/$B$17)),($B$9*24/$B$3/$B$17)/IF(IF(J$68*$B$17>$B$9,(($B$15-$B$14)*$D70*$B$1)/((J$68*$B$17)-$B$9),"")="","",(J$68*IF(J$68*$B$17>$B$9,(($B$15-$B$14)*$D70*$B$1)/((J$68*$B$17)-$B$9),""))/($B$3/$B$17)),($B$9*24/$B$3/$B$17)/$B$18) -> 7.5044571 | K70: =IF($B$18>IF(IF(K$68*$B$17>$B$9,(($B$15-$B$14)*$D70*$B$1)/((K$68*$B$17)-$B$9),"")="","",(K$68*IF($B$16*$B$17>$B$9,(($B$15-$B$14)*$D70*$B$1)/((K$68*$B$17)-$B$9),""))/($B$3/$B$17)),($B$9*24/$B$3/$B$17)/IF(IF(K$68*$B$17>$B$9,(($B$15-$B$14)*$D70*$B$1)/((K$68*$B$17)-$B$9),"")="","",(K$68*IF(K$68*$B$17>$B$9,(($B$15-$B$14)*$D70*$B$1)/((K$68*$B$17)-$B$9),""))/($B$3/$B$17)),($B$9*24/$B$3/$B$17)/$B$18) -> 8.181551 | L70: =IF($B$18>IF(IF(L$68*$B$17>$B$9,(($B$15-$B$14)*$D70*$B$1)/((L$68*$B$17)-$B$9),"")="","",(L$68*IF($B$16*$B$17>$B$9,(($B$15-$B$14)*$D70*$B$1)/((L$68*$B$17)-$B$9),""))/($B$3/$B$17)),($B$9*24/$B$3/$B$17)/IF(IF(L$68*$B$17>$B$9,(($B$15-$B$14)*$D70*$B$1)/((L$68*$B$17)-$B$9),"")="","",(L$68*IF(L$68*$B$17>$B$9,(($B$15-$B$14)*$D70*$B$1)/((L$68*$B$17)-$B$9),""))/($B$3/$B$17)),($B$9*24/$B$3/$B$17)/$B$18) -> 8.3931429 | ... N70: =IF($B$18>IF(IF(N$68*$B$17>$B$9,(($B$15-$B$14)*$D70*$B$1)/((N$68*$B$17)-$B$9),"")="","",(N$68*IF($B$16*$B$17>$B$9,(($B$15-$B$14)*$D70*$B$1)/((N$68*$B$17)-$B$9),""))/($B$3/$B$17)),($B$9*24/$B$3/$B$17)/IF(IF(N$68*$B$17>$B$9,(($B$15-$B$14)*$D70*$B$1)/((N$68*$B$17)-$B$9),"")="","",(N$68*IF(N$68*$B$17>$B$9,(($B$15-$B$14)*$D70*$B$1)/((N$68*$B$17)-$B$9),""))/($B$3/$B$17)),($B$9*24/$B$3/$B$17)/$B$18) -> 8.6893714
A71: Диаметр трубы ТО, мм | B71: 40 | D71: =D70+500 -> 1000 | E71: =IF($B$18>IF(IF(E$68*$B$17>$B$9,(($B$15-$B$14)*$D71*$B$1)/((E$68*$B$17)-$B$9),"")="","",(E$68*IF($B$16*$B$17>$B$9,(($B$15-$B$14)*$D71*$B$1)/((E$68*$B$17)-$B$9),""))/($B$3/$B$17)),($B$9*24/$B$3/$B$17)/IF(IF(E$68*$B$17>$B$9,(($B$15-$B$14)*$D71*$B$1)/((E$68*$B$17)-$B$9),"")="","",(E$68*IF(E$68*$B$17>$B$9,(($B$15-$B$14)*$D71*$B$1)/((E$68*$B$17)-$B$9),""))/($B$3/$B$17)),($B$9*24/$B$3/$B$17)/$B$18) -> 1.2 | F71: =IF($B$18>IF(IF(F$68*$B$17>$B$9,(($B$15-$B$14)*$D71*$B$1)/((F$68*$B$17)-$B$9),"")="","",(F$68*IF($B$16*$B$17>$B$9,(($B$15-$B$14)*$D71*$B$1)/((F$68*$B$17)-$B$9),""))/($B$3/$B$17)),($B$9*24/$B$3/$B$17)/IF(IF(F$68*$B$17>$B$9,(($B$15-$B$14)*$D71*$B$1)/((F$68*$B$17)-$B$9),"")="","",(F$68*IF(F$68*$B$17>$B$9,(($B$15-$B$14)*$D71*$B$1)/((F$68*$B$17)-$B$9),""))/($B$3/$B$17)),($B$9*24/$B$3/$B$17)/$B$18) -> 1.2 | G71: =IF($B$18>IF(IF(G$68*$B$17>$B$9,(($B$15-$B$14)*$D71*$B$1)/((G$68*$B$17)-$B$9),"")="","",(G$68*IF($B$16*$B$17>$B$9,(($B$15-$B$14)*$D71*$B$1)/((G$68*$B$17)-$B$9),""))/($B$3/$B$17)),($B$9*24/$B$3/$B$17)/IF(IF(G$68*$B$17>$B$9,(($B$15-$B$14)*$D71*$B$1)/((G$68*$B$17)-$B$9),"")="","",(G$68*IF(G$68*$B$17>$B$9,(($B$15-$B$14)*$D71*$B$1)/((G$68*$B$17)-$B$9),""))/($B$3/$B$17)),($B$9*24/$B$3/$B$17)/$B$18) -> 1.9748571 | H71: =IF($B$18>IF(IF(H$68*$B$17>$B$9,(($B$15-$B$14)*$D71*$B$1)/((H$68*$B$17)-$B$9),"")="","",(H$68*IF($B$16*$B$17>$B$9,(($B$15-$B$14)*$D71*$B$1)/((H$68*$B$17)-$B$9),""))/($B$3/$B$17)),($B$9*24/$B$3/$B$17)/IF(IF(H$68*$B$17>$B$9,(($B$15-$B$14)*$D71*$B$1)/((H$68*$B$17)-$B$9),"")="","",(H$68*IF(H$68*$B$17>$B$9,(($B$15-$B$14)*$D71*$B$1)/((H$68*$B$17)-$B$9),""))/($B$3/$B$17)),($B$9*24/$B$3/$B$17)/$B$18) -> 2.9622857 | I71: =IF($B$18>IF(IF(I$68*$B$17>$B$9,(($B$15-$B$14)*$D71*$B$1)/((I$68*$B$17)-$B$9),"")="","",(I$68*IF($B$16*$B$17>$B$9,(($B$15-$B$14)*$D71*$B$1)/((I$68*$B$17)-$B$9),""))/($B$3/$B$17)),($B$9*24/$B$3/$B$17)/IF(IF(I$68*$B$17>$B$9,(($B$15-$B$14)*$D71*$B$1)/((I$68*$B$17)-$B$9),"")="","",(I$68*IF(I$68*$B$17>$B$9,(($B$15-$B$14)*$D71*$B$1)/((I$68*$B$17)-$B$9),""))/($B$3/$B$17)),($B$9*24/$B$3/$B$17)/$B$18) -> 3.456 | J71: =IF($B$18>IF(IF(J$68*$B$17>$B$9,(($B$15-$B$14)*$D71*$B$1)/((J$68*$B$17)-$B$9),"")="","",(J$68*IF($B$16*$B$17>$B$9,(($B$15-$B$14)*$D71*$B$1)/((J$68*$B$17)-$B$9),""))/($B$3/$B$17)),($B$9*24/$B$3/$B$17)/IF(IF(J$68*$B$17>$B$9,(($B$15-$B$14)*$D71*$B$1)/((J$68*$B$17)-$B$9),"")="","",(J$68*IF(J$68*$B$17>$B$9,(($B$15-$B$14)*$D71*$B$1)/((J$68*$B$17)-$B$9),""))/($B$3/$B$17)),($B$9*24/$B$3/$B$17)/$B$18) -> 3.7522286 | K71: =IF($B$18>IF(IF(K$68*$B$17>$B$9,(($B$15-$B$14)*$D71*$B$1)/((K$68*$B$17)-$B$9),"")="","",(K$68*IF($B$16*$B$17>$B$9,(($B$15-$B$14)*$D71*$B$1)/((K$68*$B$17)-$B$9),""))/($B$3/$B$17)),($B$9*24/$B$3/$B$17)/IF(IF(K$68*$B$17>$B$9,(($B$15-$B$14)*$D71*$B$1)/((K$68*$B$17)-$B$9),"")="","",(K$68*IF(K$68*$B$17>$B$9,(($B$15-$B$14)*$D71*$B$1)/((K$68*$B$17)-$B$9),""))/($B$3/$B$17)),($B$9*24/$B$3/$B$17)/$B$18) -> 4.0907755 | L71: =IF($B$18>IF(IF(L$68*$B$17>$B$9,(($B$15-$B$14)*$D71*$B$1)/((L$68*$B$17)-$B$9),"")="","",(L$68*IF($B$16*$B$17>$B$9,(($B$15-$B$14)*$D71*$B$1)/((L$68*$B$17)-$B$9),""))/($B$3/$B$17)),($B$9*24/$B$3/$B$17)/IF(IF(L$68*$B$17>$B$9,(($B$15-$B$14)*$D71*$B$1)/((L$68*$B$17)-$B$9),"")="","",(L$68*IF(L$68*$B$17>$B$9,(($B$15-$B$14)*$D71*$B$1)/((L$68*$B$17)-$B$9),""))/($B$3/$B$17)),($B$9*24/$B$3/$B$17)/$B$18) -> 4.1965714 | ... N71: =IF($B$18>IF(IF(N$68*$B$17>$B$9,(($B$15-$B$14)*$D71*$B$1)/((N$68*$B$17)-$B$9),"")="","",(N$68*IF($B$16*$B$17>$B$9,(($B$15-$B$14)*$D71*$B$1)/((N$68*$B$17)-$B$9),""))/($B$3/$B$17)),($B$9*24/$B$3/$B$17)/IF(IF(N$68*$B$17>$B$9,(($B$15-$B$14)*$D71*$B$1)/((N$68*$B$17)-$B$9),"")="","",(N$68*IF(N$68*$B$17>$B$9,(($B$15-$B$14)*$D71*$B$1)/((N$68*$B$17)-$B$9),""))/($B$3/$B$17)),($B$9*24/$B$3/$B$17)/$B$18) -> 4.3446857
A72: Необходимая площадь теплосъема, м2 | B72: =B16/B70 -> 8 | D72: =D71+500 -> 1500 | E72: =IF($B$18>IF(IF(E$68*$B$17>$B$9,(($B$15-$B$14)*$D72*$B$1)/((E$68*$B$17)-$B$9),"")="","",(E$68*IF($B$16*$B$17>$B$9,(($B$15-$B$14)*$D72*$B$1)/((E$68*$B$17)-$B$9),""))/($B$3/$B$17)),($B$9*24/$B$3/$B$17)/IF(IF(E$68*$B$17>$B$9,(($B$15-$B$14)*$D72*$B$1)/((E$68*$B$17)-$B$9),"")="","",(E$68*IF(E$68*$B$17>$B$9,(($B$15-$B$14)*$D72*$B$1)/((E$68*$B$17)-$B$9),""))/($B$3/$B$17)),($B$9*24/$B$3/$B$17)/$B$18) -> 1.2 | F72: =IF($B$18>IF(IF(F$68*$B$17>$B$9,(($B$15-$B$14)*$D72*$B$1)/((F$68*$B$17)-$B$9),"")="","",(F$68*IF($B$16*$B$17>$B$9,(($B$15-$B$14)*$D72*$B$1)/((F$68*$B$17)-$B$9),""))/($B$3/$B$17)),($B$9*24/$B$3/$B$17)/IF(IF(F$68*$B$17>$B$9,(($B$15-$B$14)*$D72*$B$1)/((F$68*$B$17)-$B$9),"")="","",(F$68*IF(F$68*$B$17>$B$9,(($B$15-$B$14)*$D72*$B$1)/((F$68*$B$17)-$B$9),""))/($B$3/$B$17)),($B$9*24/$B$3/$B$17)/$B$18) -> 1.2 | G72: =IF($B$18>IF(IF(G$68*$B$17>$B$9,(($B$15-$B$14)*$D72*$B$1)/((G$68*$B$17)-$B$9),"")="","",(G$68*IF($B$16*$B$17>$B$9,(($B$15-$B$14)*$D72*$B$1)/((G$68*$B$17)-$B$9),""))/($B$3/$B$17)),($B$9*24/$B$3/$B$17)/IF(IF(G$68*$B$17>$B$9,(($B$15-$B$14)*$D72*$B$1)/((G$68*$B$17)-$B$9),"")="","",(G$68*IF(G$68*$B$17>$B$9,(($B$15-$B$14)*$D72*$B$1)/((G$68*$B$17)-$B$9),""))/($B$3/$B$17)),($B$9*24/$B$3/$B$17)/$B$18) -> 1.3165714 | H72: =IF($B$18>IF(IF(H$68*$B$17>$B$9,(($B$15-$B$14)*$D72*$B$1)/((H$68*$B$17)-$B$9),"")="","",(H$68*IF($B$16*$B$17>$B$9,(($B$15-$B$14)*$D72*$B$1)/((H$68*$B$17)-$B$9),""))/($B$3/$B$17)),($B$9*24/$B$3/$B$17)/IF(IF(H$68*$B$17>$B$9,(($B$15-$B$14)*$D72*$B$1)/((H$68*$B$17)-$B$9),"")="","",(H$68*IF(H$68*$B$17>$B$9,(($B$15-$B$14)*$D72*$B$1)/((H$68*$B$17)-$B$9),""))/($B$3/$B$17)),($B$9*24/$B$3/$B$17)/$B$18) -> 1.9748571 | I72: =IF($B$18>IF(IF(I$68*$B$17>$B$9,(($B$15-$B$14)*$D72*$B$1)/((I$68*$B$17)-$B$9),"")="","",(I$68*IF($B$16*$B$17>$B$9,(($B$15-$B$14)*$D72*$B$1)/((I$68*$B$17)-$B$9),""))/($B$3/$B$17)),($B$9*24/$B$3/$B$17)/IF(IF(I$68*$B$17>$B$9,(($B$15-$B$14)*$D72*$B$1)/((I$68*$B$17)-$B$9),"")="","",(I$68*IF(I$68*$B$17>$B$9,(($B$15-$B$14)*$D72*$B$1)/((I$68*$B$17)-$B$9),""))/($B$3/$B$17)),($B$9*24/$B$3/$B$17)/$B$18) -> 2.304 | J72: =IF($B$18>IF(IF(J$68*$B$17>$B$9,(($B$15-$B$14)*$D72*$B$1)/((J$68*$B$17)-$B$9),"")="","",(J$68*IF($B$16*$B$17>$B$9,(($B$15-$B$14)*$D72*$B$1)/((J$68*$B$17)-$B$9),""))/($B$3/$B$17)),($B$9*24/$B$3/$B$17)/IF(IF(J$68*$B$17>$B$9,(($B$15-$B$14)*$D72*$B$1)/((J$68*$B$17)-$B$9),"")="","",(J$68*IF(J$68*$B$17>$B$9,(($B$15-$B$14)*$D72*$B$1)/((J$68*$B$17)-$B$9),""))/($B$3/$B$17)),($B$9*24/$B$3/$B$17)/$B$18) -> 2.5014857 | K72: =IF($B$18>IF(IF(K$68*$B$17>$B$9,(($B$15-$B$14)*$D72*$B$1)/((K$68*$B$17)-$B$9),"")="","",(K$68*IF($B$16*$B$17>$B$9,(($B$15-$B$14)*$D72*$B$1)/((K$68*$B$17)-$B$9),""))/($B$3/$B$17)),($B$9*24/$B$3/$B$17)/IF(IF(K$68*$B$17>$B$9,(($B$15-$B$14)*$D72*$B$1)/((K$68*$B$17)-$B$9),"")="","",(K$68*IF(K$68*$B$17>$B$9,(($B$15-$B$14)*$D72*$B$1)/((K$68*$B$17)-$B$9),""))/($B$3/$B$17)),($B$9*24/$B$3/$B$17)/$B$18) -> 2.7271837 | L72: =IF($B$18>IF(IF(L$68*$B$17>$B$9,(($B$15-$B$14)*$D72*$B$1)/((L$68*$B$17)-$B$9),"")="","",(L$68*IF($B$16*$B$17>$B$9,(($B$15-$B$14)*$D72*$B$1)/((L$68*$B$17)-$B$9),""))/($B$3/$B$17)),($B$9*24/$B$3/$B$17)/IF(IF(L$68*$B$17>$B$9,(($B$15-$B$14)*$D72*$B$1)/((L$68*$B$17)-$B$9),"")="","",(L$68*IF(L$68*$B$17>$B$9,(($B$15-$B$14)*$D72*$B$1)/((L$68*$B$17)-$B$9),""))/($B$3/$B$17)),($B$9*24/$B$3/$B$17)/$B$18) -> 2.7977143 | ... N72: =IF($B$18>IF(IF(N$68*$B$17>$B$9,(($B$15-$B$14)*$D72*$B$1)/((N$68*$B$17)-$B$9),"")="","",(N$68*IF($B$16*$B$17>$B$9,(($B$15-$B$14)*$D72*$B$1)/((N$68*$B$17)-$B$9),""))/($B$3/$B$17)),($B$9*24/$B$3/$B$17)/IF(IF(N$68*$B$17>$B$9,(($B$15-$B$14)*$D72*$B$1)/((N$68*$B$17)-$B$9),"")="","",(N$68*IF(N$68*$B$17>$B$9,(($B$15-$B$14)*$D72*$B$1)/((N$68*$B$17)-$B$9),""))/($B$3/$B$17)),($B$9*24/$B$3/$B$17)/$B$18) -> 2.8964571
A73: Общая протяженность трубы ТО, м | B73: =B72/(3.14*(B71/1000)) -> 63.694268 | D73: =D72+500 -> 2000 | E73: =IF($B$18>IF(IF(E$68*$B$17>$B$9,(($B$15-$B$14)*$D73*$B$1)/((E$68*$B$17)-$B$9),"")="","",(E$68*IF($B$16*$B$17>$B$9,(($B$15-$B$14)*$D73*$B$1)/((E$68*$B$17)-$B$9),""))/($B$3/$B$17)),($B$9*24/$B$3/$B$17)/IF(IF(E$68*$B$17>$B$9,(($B$15-$B$14)*$D73*$B$1)/((E$68*$B$17)-$B$9),"")="","",(E$68*IF(E$68*$B$17>$B$9,(($B$15-$B$14)*$D73*$B$1)/((E$68*$B$17)-$B$9),""))/($B$3/$B$17)),($B$9*24/$B$3/$B$17)/$B$18) -> 1.2 | F73: =IF($B$18>IF(IF(F$68*$B$17>$B$9,(($B$15-$B$14)*$D73*$B$1)/((F$68*$B$17)-$B$9),"")="","",(F$68*IF($B$16*$B$17>$B$9,(($B$15-$B$14)*$D73*$B$1)/((F$68*$B$17)-$B$9),""))/($B$3/$B$17)),($B$9*24/$B$3/$B$17)/IF(IF(F$68*$B$17>$B$9,(($B$15-$B$14)*$D73*$B$1)/((F$68*$B$17)-$B$9),"")="","",(F$68*IF(F$68*$B$17>$B$9,(($B$15-$B$14)*$D73*$B$1)/((F$68*$B$17)-$B$9),""))/($B$3/$B$17)),($B$9*24/$B$3/$B$17)/$B$18) -> 1.2 | G73: =IF($B$18>IF(IF(G$68*$B$17>$B$9,(($B$15-$B$14)*$D73*$B$1)/((G$68*$B$17)-$B$9),"")="","",(G$68*IF($B$16*$B$17>$B$9,(($B$15-$B$14)*$D73*$B$1)/((G$68*$B$17)-$B$9),""))/($B$3/$B$17)),($B$9*24/$B$3/$B$17)/IF(IF(G$68*$B$17>$B$9,(($B$15-$B$14)*$D73*$B$1)/((G$68*$B$17)-$B$9),"")="","",(G$68*IF(G$68*$B$17>$B$9,(($B$15-$B$14)*$D73*$B$1)/((G$68*$B$17)-$B$9),""))/($B$3/$B$17)),($B$9*24/$B$3/$B$17)/$B$18) -> 1.2 | H73: =IF($B$18>IF(IF(H$68*$B$17>$B$9,(($B$15-$B$14)*$D73*$B$1)/((H$68*$B$17)-$B$9),"")="","",(H$68*IF($B$16*$B$17>$B$9,(($B$15-$B$14)*$D73*$B$1)/((H$68*$B$17)-$B$9),""))/($B$3/$B$17)),($B$9*24/$B$3/$B$17)/IF(IF(H$68*$B$17>$B$9,(($B$15-$B$14)*$D73*$B$1)/((H$68*$B$17)-$B$9),"")="","",(H$68*IF(H$68*$B$17>$B$9,(($B$15-$B$14)*$D73*$B$1)/((H$68*$B$17)-$B$9),""))/($B$3/$B$17)),($B$9*24/$B$3/$B$17)/$B$18) -> 1.4811429 | I73: =IF($B$18>IF(IF(I$68*$B$17>$B$9,(($B$15-$B$14)*$D73*$B$1)/((I$68*$B$17)-$B$9),"")="","",(I$68*IF($B$16*$B$17>$B$9,(($B$15-$B$14)*$D73*$B$1)/((I$68*$B$17)-$B$9),""))/($B$3/$B$17)),($B$9*24/$B$3/$B$17)/IF(IF(I$68*$B$17>$B$9,(($B$15-$B$14)*$D73*$B$1)/((I$68*$B$17)-$B$9),"")="","",(I$68*IF(I$68*$B$17>$B$9,(($B$15-$B$14)*$D73*$B$1)/((I$68*$B$17)-$B$9),""))/($B$3/$B$17)),($B$9*24/$B$3/$B$17)/$B$18) -> 1.728 | J73: =IF($B$18>IF(IF(J$68*$B$17>$B$9,(($B$15-$B$14)*$D73*$B$1)/((J$68*$B$17)-$B$9),"")="","",(J$68*IF($B$16*$B$17>$B$9,(($B$15-$B$14)*$D73*$B$1)/((J$68*$B$17)-$B$9),""))/($B$3/$B$17)),($B$9*24/$B$3/$B$17)/IF(IF(J$68*$B$17>$B$9,(($B$15-$B$14)*$D73*$B$1)/((J$68*$B$17)-$B$9),"")="","",(J$68*IF(J$68*$B$17>$B$9,(($B$15-$B$14)*$D73*$B$1)/((J$68*$B$17)-$B$9),""))/($B$3/$B$17)),($B$9*24/$B$3/$B$17)/$B$18) -> 1.8761143 | K73: =IF($B$18>IF(IF(K$68*$B$17>$B$9,(($B$15-$B$14)*$D73*$B$1)/((K$68*$B$17)-$B$9),"")="","",(K$68*IF($B$16*$B$17>$B$9,(($B$15-$B$14)*$D73*$B$1)/((K$68*$B$17)-$B$9),""))/($B$3/$B$17)),($B$9*24/$B$3/$B$17)/IF(IF(K$68*$B$17>$B$9,(($B$15-$B$14)*$D73*$B$1)/((K$68*$B$17)-$B$9),"")="","",(K$68*IF(K$68*$B$17>$B$9,(($B$15-$B$14)*$D73*$B$1)/((K$68*$B$17)-$B$9),""))/($B$3/$B$17)),($B$9*24/$B$3/$B$17)/$B$18) -> 2.0453878 | L73: =IF($B$18>IF(IF(L$68*$B$17>$B$9,(($B$15-$B$14)*$D73*$B$1)/((L$68*$B$17)-$B$9),"")="","",(L$68*IF($B$16*$B$17>$B$9,(($B$15-$B$14)*$D73*$B$1)/((L$68*$B$17)-$B$9),""))/($B$3/$B$17)),($B$9*24/$B$3/$B$17)/IF(IF(L$68*$B$17>$B$9,(($B$15-$B$14)*$D73*$B$1)/((L$68*$B$17)-$B$9),"")="","",(L$68*IF(L$68*$B$17>$B$9,(($B$15-$B$14)*$D73*$B$1)/((L$68*$B$17)-$B$9),""))/($B$3/$B$17)),($B$9*24/$B$3/$B$17)/$B$18) -> 2.0982857 | ... N73: =IF($B$18>IF(IF(N$68*$B$17>$B$9,(($B$15-$B$14)*$D73*$B$1)/((N$68*$B$17)-$B$9),"")="","",(N$68*IF($B$16*$B$17>$B$9,(($B$15-$B$14)*$D73*$B$1)/((N$68*$B$17)-$B$9),""))/($B$3/$B$17)),($B$9*24/$B$3/$B$17)/IF(IF(N$68*$B$17>$B$9,(($B$15-$B$14)*$D73*$B$1)/((N$68*$B$17)-$B$9),"")="","",(N$68*IF(N$68*$B$17>$B$9,(($B$15-$B$14)*$D73*$B$1)/((N$68*$B$17)-$B$9),""))/($B$3/$B$17)),($B$9*24/$B$3/$B$17)/$B$18) -> 2.1723429

Sheet Расчеты
A1: № | B1: час суток | C1: Температура ТА | E1: Теплопотери дома за время горения закладки | F1: тепла пришло в ТА за время топки с учетом расхода СО | G1: тепла ушло из ТА за время между топками | I1: Закдадка | J1: Время начала горения закладки | K1: Время конца горения закладки | L1: Закладка, кг | M1: Температура ТА, нач.топки | N1: Температура ТА, конец топки | O1: Между закладками
A2: =IF(C2="","",MAX($A$1:A1)+1) -> 1 | B2: 0 | C2: =IF(ISNA(VLOOKUP(B2,$J$2:$M$11,4,FALSE)),IF(ISNA(VLOOKUP(B2,$K$2:$N$11,4,FALSE)),"",VLOOKUP(B2,$K$2:$N$11,4,FALSE)),VLOOKUP(B2,$J$2:$M$11,4,FALSE)) -> 75.311176 | H2: Температура ТА в 0 часа | J2: 0 | M2: =M11 -> 75.311176
A3: =IF(C3="","",MAX($A$1:A2)+1) | B3: 0.1 | C3: =IF(ISNA(VLOOKUP(B3,$J$2:$M$11,4,FALSE)),IF(ISNA(VLOOKUP(B3,$K$2:$N$11,4,FALSE)),"",VLOOKUP(B3,$K$2:$N$11,4,FALSE)),VLOOKUP(B3,$J$2:$M$11,4,FALSE)) | E3: =Теплоакумулятор!$B$9*(L3/(Теплоакумулятор!$B$16/(Теплоакумулятор!$B$3*Теплоакумулятор!$B$17))) -> 13.5 | F3: =L3*Теплоакумулятор!$B$3*Теплоакумулятор!$B$17-Теплоакумулятор!$B$9*(L3/(Теплоакумулятор!$B$16/(Теплоакумулятор!$B$3*Теплоакумулятор!$B$17))) -> 106.5 | G3: =(J3-J2)*Теплоакумулятор!$B$9 -> 72 | I3: 1 | J3: =Теплоакумулятор!E10 -> 8 | K3: =ROUND(L3/(Теплоакумулятор!$B$16/(Теплоакумулятор!$B$3*Теплоакумулятор!$B$17))+J3,1) -> 9.5 | L3: =Теплоакумулятор!G10 -> 40 | M3: =Теплоакумулятор!H10 -> 40 | N3: =IFERROR(M3+F3/(Теплоакумулятор!$B$48*Теплоакумулятор!$B$1),"") -> 73.845339 | O3: =24-MAX(K3:K10)+J3 -> 11.3
A4: =IF(C4="","",MAX($A$1:A3)+1) | B4: 0.2 | C4: =IF(ISNA(VLOOKUP(B4,$J$2:$M$11,4,FALSE)),IF(ISNA(VLOOKUP(B4,$K$2:$N$11,4,FALSE)),"",VLOOKUP(B4,$K$2:$N$11,4,FALSE)),VLOOKUP(B4,$J$2:$M$11,4,FALSE)) | E4: =Теплоакумулятор!$B$9*(L4/(Теплоакумулятор!$B$16/(Теплоакумулятор!$B$3*Теплоакумулятор!$B$17))) -> 15.1875 | F4: =L4*Теплоакумулятор!$B$3*Теплоакумулятор!$B$17-Теплоакумулятор!$B$9*(L4/(Теплоакумулятор!$B$16/(Теплоакумулятор!$B$3*Теплоакумулятор!$B$17))) -> 119.8125 | G4: =IF(J4=0,"",(J4-MAX($K$2:$K3))*Теплоакумулятор!$B$9) -> 85.5 | I4: 2 | J4: =Теплоакумулятор!E11 -> 19 | K4: =ROUND(L4/(Теплоакумулятор!$B$16/(Теплоакумулятор!$B$3*Теплоакумулятор!$B$17))+J4,1) -> 20.7 | L4: =Теплоакумулятор!G11 -> 45 | M4: =IFERROR(N3-G4/(Теплоакумулятор!$B$48*Теплоакумулятор!$B$1),"") -> 46.673729 | N4: =IFERROR(M4+F4/(Теплоакумулятор!$B$48*Теплоакумулятор!$B$1),"") -> 84.749735 | O4: =IF(L4>0,J4-J3,"") -> 11
A5: =IF(C5="","",MAX($A$1:A4)+1) | B5: 0.3 | C5: =IF(ISNA(VLOOKUP(B5,$J$2:$M$11,4,FALSE)),IF(ISNA(VLOOKUP(B5,$K$2:$N$11,4,FALSE)),"",VLOOKUP(B5,$K$2:$N$11,4,FALSE)),VLOOKUP(B5,$J$2:$M$11,4,FALSE)) | E5: =Теплоакумулятор!$B$9*(L5/(Теплоакумулятор!$B$16/(Теплоакумулятор!$B$3*Теплоакумулятор!$B$17))) -> 0 | F5: =L5*Теплоакумулятор!$B$3*Теплоакумулятор!$B$17-Теплоакумулятор!$B$9*(L5/(Теплоакумулятор!$B$16/(Теплоакумулятор!$B$3*Теплоакумулятор!$B$17))) -> 0 | G5: =IF(J5=0,"",(J5-MAX($K$2:$K4))*Теплоакумулятор!$B$9) | I5: 3 | J5: =Теплоакумулятор!E12 -> 0 | K5: =ROUND(L5/(Теплоакумулятор!$B$16/(Теплоакумулятор!$B$3*Теплоакумулятор!$B$17))+J5,1) -> 0 | L5: =Теплоакумулятор!G12 -> 0 | M5: =IFERROR(N4-G5/(Теплоакумулятор!$B$48*Теплоакумулятор!$B$1),"") | N5: =IFERROR(M5+F5/(Теплоакумулятор!$B$48*Теплоакумулятор!$B$1),"") | O5: =IF(L5>0,J5-J4,"")
A6: =IF(C6="","",MAX($A$1:A5)+1) | B6: 0.4 | C6: =IF(ISNA(VLOOKUP(B6,$J$2:$M$11,4,FALSE)),IF(ISNA(VLOOKUP(B6,$K$2:$N$11,4,FALSE)),"",VLOOKUP(B6,$K$2:$N$11,4,FALSE)),VLOOKUP(B6,$J$2:$M$11,4,FALSE)) | E6: =Теплоакумулятор!$B$9*(L6/(Теплоакумулятор!$B$16/(Теплоакумулятор!$B$3*Теплоакумулятор!$B$17))) -> 0 | F6: =L6*Теплоакумулятор!$B$3*Теплоакумулятор!$B$17-Теплоакумулятор!$B$9*(L6/(Теплоакумулятор!$B$16/(Теплоакумулятор!$B$3*Теплоакумулятор!$B$17))) -> 0 | G6: =IF(J6=0,"",(J6-MAX($K$2:$K5))*Теплоакумулятор!$B$9) | I6: 4 | J6: =Теплоакумулятор!E13 -> 0 | K6: =ROUND(L6/(Теплоакумулятор!$B$16/(Теплоакумулятор!$B$3*Теплоакумулятор!$B$17))+J6,1) -> 0 | L6: =Теплоакумулятор!G13 -> 0 | M6: =IFERROR(N5-G6/(Теплоакумулятор!$B$48*Теплоакумулятор!$B$1),"") | N6: =IFERROR(M6+F6/(Теплоакумулятор!$B$48*Теплоакумулятор!$B$1),"") | O6: =IF(L6>0,J6-J5,"")
A7: =IF(C7="","",MAX($A$1:A6)+1) | B7: 0.5 | C7: =IF(ISNA(VLOOKUP(B7,$J$2:$M$11,4,FALSE)),IF(ISNA(VLOOKUP(B7,$K$2:$N$11,4,FALSE)),"",VLOOKUP(B7,$K$2:$N$11,4,FALSE)),VLOOKUP(B7,$J$2:$M$11,4,FALSE)) | E7: =Теплоакумулятор!$B$9*(L7/(Теплоакумулятор!$B$16/(Теплоакумулятор!$B$3*Теплоакумулятор!$B$17))) -> 0 | F7: =L7*Теплоакумулятор!$B$3*Теплоакумулятор!$B$17-Теплоакумулятор!$B$9*(L7/(Теплоакумулятор!$B$16/(Теплоакумулятор!$B$3*Теплоакумулятор!$B$17))) -> 0 | G7: =IF(J7=0,"",(J7-MAX($K$2:$K6))*Теплоакумулятор!$B$9) | I7: 5 | J7: =Теплоакумулятор!E14 -> 0 | K7: =ROUND(L7/(Теплоакумулятор!$B$16/(Теплоакумулятор!$B$3*Теплоакумулятор!$B$17))+J7,1) -> 0 | L7: =Теплоакумулятор!G14 -> 0 | M7: =IFERROR(N6-G7/(Теплоакумулятор!$B$48*Теплоакумулятор!$B$1),"") | N7: =IFERROR(M7+F7/(Теплоакумулятор!$B$48*Теплоакумулятор!$B$1),"") | O7: =IF(L7>0,J7-J6,"")
A8: =IF(C8="","",MAX($A$1:A7)+1) | B8: 0.6 | C8: =IF(ISNA(VLOOKUP(B8,$J$2:$M$11,4,FALSE)),IF(ISNA(VLOOKUP(B8,$K$2:$N$11,4,FALSE)),"",VLOOKUP(B8,$K$2:$N$11,4,FALSE)),VLOOKUP(B8,$J$2:$M$11,4,FALSE)) | E8: =Теплоакумулятор!$B$9*(L8/(Теплоакумулятор!$B$16/(Теплоакумулятор!$B$3*Теплоакумулятор!$B$17))) -> 0 | F8: =L8*Теплоакумулятор!$B$3*Теплоакумулятор!$B$17-Теплоакумулятор!$B$9*(L8/(Теплоакумулятор!$B$16/(Теплоакумулятор!$B$3*Теплоакумулятор!$B$17))) -> 0 | G8: =IF(J8=0,"",(J8-MAX($K$2:$K7))*Теплоакумулятор!$B$9) | I8: 6 | J8: =Теплоакумулятор!E15 -> 0 | K8: =ROUND(L8/(Теплоакумулятор!$B$16/(Теплоакумулятор!$B$3*Теплоакумулятор!$B$17))+J8,1) -> 0 | L8: =Теплоакумулятор!G15 -> 0 | M8: =IFERROR(N7-G8/(Теплоакумулятор!$B$48*Теплоакумулятор!$B$1),"") | N8: =IFERROR(M8+F8/(Теплоакумулятор!$B$48*Теплоакумулятор!$B$1),"") | O8: =IF(L8>0,J8-J7,"")
A9: =IF(C9="","",MAX($A$1:A8)+1) | B9: 0.7 | C9: =IF(ISNA(VLOOKUP(B9,$J$2:$M$11,4,FALSE)),IF(ISNA(VLOOKUP(B9,$K$2:$N$11,4,FALSE)),"",VLOOKUP(B9,$K$2:$N$11,4,FALSE)),VLOOKUP(B9,$J$2:$M$11,4,FALSE)) | E9: =Теплоакумулятор!$B$9*(L9/(Теплоакумулятор!$B$16/(Теплоакумулятор!$B$3*Теплоакумулятор!$B$17))) -> 0 | F9: =L9*Теплоакумулятор!$B$3*Теплоакумулятор!$B$17-Теплоакумулятор!$B$9*(L9/(Теплоакумулятор!$B$16/(Теплоакумулятор!$B$3*Теплоакумулятор!$B$17))) -> 0 | G9: =IF(J9=0,"",(J9-MAX($K$2:$K8))*Теплоакумулятор!$B$9) | I9: 7 | J9: =Теплоакумулятор!E16 -> 0 | K9: =ROUND(L9/(Теплоакумулятор!$B$16/(Теплоакумулятор!$B$3*Теплоакумулятор!$B$17))+J9,1) -> 0 | L9: =Теплоакумулятор!G16 -> 0 | M9: =IFERROR(N8-G9/(Теплоакумулятор!$B$48*Теплоакумулятор!$B$1),"") | N9: =IFERROR(M9+F9/(Теплоакумулятор!$B$48*Теплоакумулятор!$B$1),"") | O9: =IF(L9>0,J9-J8,"")
A10: =IF(C10="","",MAX($A$1:A9)+1) | B10: 0.8 | C10: =IF(ISNA(VLOOKUP(B10,$J$2:$M$11,4,FALSE)),IF(ISNA(VLOOKUP(B10,$K$2:$N$11,4,FALSE)),"",VLOOKUP(B10,$K$2:$N$11,4,FALSE)),VLOOKUP(B10,$J$2:$M$11,4,FALSE)) | E10: =Теплоакумулятор!$B$9*(L10/(Теплоакумулятор!$B$16/(Теплоакумулятор!$B$3*Теплоакумулятор!$B$17))) -> 0 | F10: =L10*Теплоакумулятор!$B$3*Теплоакумулятор!$B$17-Теплоакумулятор!$B$9*(L10/(Теплоакумулятор!$B$16/(Теплоакумулятор!$B$3*Теплоакумулятор!$B$17))) -> 0 | G10: =IF(J10=0,"",(J10-MAX($K$2:$K9))*Теплоакумулятор!$B$9) | I10: 8 | J10: =Теплоакумулятор!E17 -> 0 | K10: =ROUND(L10/(Теплоакумулятор!$B$16/(Теплоакумулятор!$B$3*Теплоакумулятор!$B$17))+J10,1) -> 0 | L10: =Теплоакумулятор!G17 -> 0 | M10: =IFERROR(N9-G10/(Теплоакумулятор!$B$48*Теплоакумулятор!$B$1),"") | N10: =IFERROR(M10+F10/(Теплоакумулятор!$B$48*Теплоакумулятор!$B$1),"") | O10: =IF(L10>0,J10-J9,"")
A11: =IF(C11="","",MAX($A$1:A10)+1) | B11: 0.9 | C11: =IF(ISNA(VLOOKUP(B11,$J$2:$M$11,4,FALSE)),IF(ISNA(VLOOKUP(B11,$K$2:$N$11,4,FALSE)),"",VLOOKUP(B11,$K$2:$N$11,4,FALSE)),VLOOKUP(B11,$J$2:$M$11,4,FALSE)) | E11: =Теплоакумулятор!$B$9*(L11/(Теплоакумулятор!$B$16/(Теплоакумулятор!$B$3*Теплоакумулятор!$B$17))) -> 0 | F11: =L11*Теплоакумулятор!$B$3*Теплоакумулятор!$B$17-Теплоакумулятор!$B$9*(L11/(Теплоакумулятор!$B$16/(Теплоакумулятор!$B$3*Теплоакумулятор!$B$17))) -> 0 | G11: =IF(J11=0,"",(J11-MAX($K$2:$K10))*Теплоакумулятор!$B$9) -> 29.7 | H11: Температура ТА в 24 часа | J11: 24 | M11: =VLOOKUP(MAX(K3:K10),K3:N10,4,FALSE)-G11/(Теплоакумулятор!$B$48*Теплоакумулятор!$B$1) -> 75.311176 | N11: =(VLOOKUP(MAX(K3:K10),K3:N10,4,FALSE)-Теплоакумулятор!$B$14)*Теплоакумулятор!B48*Теплоакумулятор!B1 -> 140.8125 | O11: =IF(L11>0,J11-J10,"")
A12: =IF(C12="","",MAX($A$1:A11)+1) | B12: 1 | C12: =IF(ISNA(VLOOKUP(B12,$J$2:$M$11,4,FALSE)),IF(ISNA(VLOOKUP(B12,$K$2:$N$11,4,FALSE)),"",VLOOKUP(B12,$K$2:$N$11,4,FALSE)),VLOOKUP(B12,$J$2:$M$11,4,FALSE))
A13: =IF(C13="","",MAX($A$1:A12)+1) | B13: 1.1 | C13: =IF(ISNA(VLOOKUP(B13,$J$2:$M$11,4,FALSE)),IF(ISNA(VLOOKUP(B13,$K$2:$N$11,4,FALSE)),"",VLOOKUP(B13,$K$2:$N$11,4,FALSE)),VLOOKUP(B13,$J$2:$M$11,4,FALSE))
A14: =IF(C14="","",MAX($A$1:A13)+1) | B14: 1.2 | C14: =IF(ISNA(VLOOKUP(B14,$J$2:$M$11,4,FALSE)),IF(ISNA(VLOOKUP(B14,$K$2:$N$11,4,FALSE)),"",VLOOKUP(B14,$K$2:$N$11,4,FALSE)),VLOOKUP(B14,$J$2:$M$11,4,FALSE))
A15: =IF(C15="","",MAX($A$1:A14)+1) | B15: 1.3 | C15: =IF(ISNA(VLOOKUP(B15,$J$2:$M$11,4,FALSE)),IF(ISNA(VLOOKUP(B15,$K$2:$N$11,4,FALSE)),"",VLOOKUP(B15,$K$2:$N$11,4,FALSE)),VLOOKUP(B15,$J$2:$M$11,4,FALSE))
A16: =IF(C16="","",MAX($A$1:A15)+1) | B16: 1.4 | C16: =IF(ISNA(VLOOKUP(B16,$J$2:$M$11,4,FALSE)),IF(ISNA(VLOOKUP(B16,$K$2:$N$11,4,FALSE)),"",VLOOKUP(B16,$K$2:$N$11,4,FALSE)),VLOOKUP(B16,$J$2:$M$11,4,FALSE))
A17: =IF(C17="","",MAX($A$1:A16)+1) | B17: 1.5 | C17: =IF(ISNA(VLOOKUP(B17,$J$2:$M$11,4,FALSE)),IF(ISNA(VLOOKUP(B17,$K$2:$N$11,4,FALSE)),"",VLOOKUP(B17,$K$2:$N$11,4,FALSE)),VLOOKUP(B17,$J$2:$M$11,4,FALSE)) | F17: =INDIRECT(CONCATENATE("Расчеты!$I$2:$I$",241-COUNTIF($C$2:$C$1900,"<""")+19)) -> 0
A18: =IF(C18="","",MAX($A$1:A17)+1) | B18: 1.6 | C18: =IF(ISNA(VLOOKUP(B18,$J$2:$M$11,4,FALSE)),IF(ISNA(VLOOKUP(B18,$K$2:$N$11,4,FALSE)),"",VLOOKUP(B18,$K$2:$N$11,4,FALSE)),VLOOKUP(B18,$J$2:$M$11,4,FALSE))
A19: =IF(C19="","",MAX($A$1:A18)+1) | B19: 1.7 | C19: =IF(ISNA(VLOOKUP(B19,$J$2:$M$11,4,FALSE)),IF(ISNA(VLOOKUP(B19,$K$2:$N$11,4,FALSE)),"",VLOOKUP(B19,$K$2:$N$11,4,FALSE)),VLOOKUP(B19,$J$2:$M$11,4,FALSE)) | D19: № | E19: часы суток | F19: Температура ТА | G19: Темп. мин | H19: Темп. Мах | I19: Метка закладки
A20: =IF(C20="","",MAX($A$1:A19)+1) | B20: 1.8 | C20: =IF(ISNA(VLOOKUP(B20,$J$2:$M$11,4,FALSE)),IF(ISNA(VLOOKUP(B20,$K$2:$N$11,4,FALSE)),"",VLOOKUP(B20,$K$2:$N$11,4,FALSE)),VLOOKUP(B20,$J$2:$M$11,4,FALSE)) | D20: 1 | E20: =IFERROR(VLOOKUP(D20,$A$2:$C$900,2,FALSE),"") -> 0 | F20: =IFERROR(VLOOKUP(D20,$A$2:$C$900,3,FALSE),"") -> 75.311176 | G20: =IF(Таблица2[[#This Row],[часы суток]]="","",Теплоакумулятор!$B$14) -> 40 | H20: =IF(Таблица2[[#This Row],[часы суток]]="","",Теплоакумулятор!$B$15) -> 90
A21: =IF(C21="","",MAX($A$1:A20)+1) | B21: 1.9 | C21: =IF(ISNA(VLOOKUP(B21,$J$2:$M$11,4,FALSE)),IF(ISNA(VLOOKUP(B21,$K$2:$N$11,4,FALSE)),"",VLOOKUP(B21,$K$2:$N$11,4,FALSE)),VLOOKUP(B21,$J$2:$M$11,4,FALSE)) | D21: 2 | E21: =IFERROR(VLOOKUP(D21,$A$2:$C$900,2,FALSE),"") -> 8 | F21: =IFERROR(VLOOKUP(D21,$A$2:$C$900,3,FALSE),"") -> 40 | G21: =IF(Таблица2[[#This Row],[часы суток]]="","",Теплоакумулятор!$B$14) -> 40 | H21: =IF(Таблица2[[#This Row],[часы суток]]="","",Теплоакумулятор!$B$15) -> 90 | I21: =IF(ISNA(MATCH(E21,$J$3:$J$10,0)),"",F21) -> 40
A22: =IF(C22="","",MAX($A$1:A21)+1) | B22: 2 | C22: =IF(ISNA(VLOOKUP(B22,$J$2:$M$11,4,FALSE)),IF(ISNA(VLOOKUP(B22,$K$2:$N$11,4,FALSE)),"",VLOOKUP(B22,$K$2:$N$11,4,FALSE)),VLOOKUP(B22,$J$2:$M$11,4,FALSE)) | D22: 3 | E22: =IFERROR(VLOOKUP(D22,$A$2:$C$900,2,FALSE),"") -> 9.5 | F22: =IFERROR(VLOOKUP(D22,$A$2:$C$900,3,FALSE),"") -> 73.845339 | G22: =IF(Таблица2[[#This Row],[часы суток]]="","",Теплоакумулятор!$B$14) -> 40 | H22: =IF(Таблица2[[#This Row],[часы суток]]="","",Теплоакумулятор!$B$15) -> 90 | I22: =IF(ISNA(MATCH(E22,$J$3:$J$10,0)),"",F22)
A23: =IF(C23="","",MAX($A$1:A22)+1) | B23: 2.1 | C23: =IF(ISNA(VLOOKUP(B23,$J$2:$M$11,4,FALSE)),IF(ISNA(VLOOKUP(B23,$K$2:$N$11,4,FALSE)),"",VLOOKUP(B23,$K$2:$N$11,4,FALSE)),VLOOKUP(B23,$J$2:$M$11,4,FALSE)) | D23: 4 | E23: =IFERROR(VLOOKUP(D23,$A$2:$C$900,2,FALSE),"") -> 19 | F23: =IFERROR(VLOOKUP(D23,$A$2:$C$900,3,FALSE),"") -> 46.673729 | G23: =IF(Таблица2[[#This Row],[часы суток]]="","",Теплоакумулятор!$B$14) -> 40 | H23: =IF(Таблица2[[#This Row],[часы суток]]="","",Теплоакумулятор!$B$15) -> 90 | I23: =IF(ISNA(MATCH(E23,$J$3:$J$10,0)),"",F23) -> 46.673729
A24: =IF(C24="","",MAX($A$1:A23)+1) | B24: 2.2 | C24: =IF(ISNA(VLOOKUP(B24,$J$2:$M$11,4,FALSE)),IF(ISNA(VLOOKUP(B24,$K$2:$N$11,4,FALSE)),"",VLOOKUP(B24,$K$2:$N$11,4,FALSE)),VLOOKUP(B24,$J$2:$M$11,4,FALSE)) | D24: 5 | E24: =IFERROR(VLOOKUP(D24,$A$2:$C$900,2,FALSE),"") -> 20.7 | F24: =IFERROR(VLOOKUP(D24,$A$2:$C$900,3,FALSE),"") -> 84.749735 | G24: =IF(Таблица2[[#This Row],[часы суток]]="","",Теплоакумулятор!$B$14) -> 40 | H24: =IF(Таблица2[[#This Row],[часы суток]]="","",Теплоакумулятор!$B$15) -> 90 | I24: =IF(ISNA(MATCH(E24,$J$3:$J$10,0)),"",F24)
A25: =IF(C25="","",MAX($A$1:A24)+1) | B25: 2.3 | C25: =IF(ISNA(VLOOKUP(B25,$J$2:$M$11,4,FALSE)),IF(ISNA(VLOOKUP(B25,$K$2:$N$11,4,FALSE)),"",VLOOKUP(B25,$K$2:$N$11,4,FALSE)),VLOOKUP(B25,$J$2:$M$11,4,FALSE)) | D25: 6 | E25: =IFERROR(VLOOKUP(D25,$A$2:$C$900,2,FALSE),"") -> 24 | F25: =IFERROR(VLOOKUP(D25,$A$2:$C$900,3,FALSE),"") -> 75.311176 | G25: =IF(Таблица2[[#This Row],[часы суток]]="","",Теплоакумулятор!$B$14) -> 40 | H25: =IF(Таблица2[[#This Row],[часы суток]]="","",Теплоакумулятор!$B$15) -> 90 | I25: =IF(ISNA(MATCH(E25,$J$3:$J$10,0)),"",F25)
A26: =IF(C26="","",MAX($A$1:A25)+1) | B26: 2.4 | C26: =IF(ISNA(VLOOKUP(B26,$J$2:$M$11,4,FALSE)),IF(ISNA(VLOOKUP(B26,$K$2:$N$11,4,FALSE)),"",VLOOKUP(B26,$K$2:$N$11,4,FALSE)),VLOOKUP(B26,$J$2:$M$11,4,FALSE)) | D26: 7 | E26: =IFERROR(VLOOKUP(D26,$A$2:$C$900,2,FALSE),"") | F26: =IFERROR(VLOOKUP(D26,$A$2:$C$900,3,FALSE),"") | G26: =IF(Таблица2[[#This Row],[часы суток]]="","",Теплоакумулятор!$B$14) | H26: =IF(Таблица2[[#This Row],[часы суток]]="","",Теплоакумулятор!$B$15) | I26: =IF(ISNA(MATCH(E26,$J$3:$J$10,0)),"",F26)
A27: =IF(C27="","",MAX($A$1:A26)+1) | B27: 2.5 | C27: =IF(ISNA(VLOOKUP(B27,$J$2:$M$11,4,FALSE)),IF(ISNA(VLOOKUP(B27,$K$2:$N$11,4,FALSE)),"",VLOOKUP(B27,$K$2:$N$11,4,FALSE)),VLOOKUP(B27,$J$2:$M$11,4,FALSE)) | D27: 8 | E27: =IFERROR(VLOOKUP(D27,$A$2:$C$900,2,FALSE),"") | F27: =IFERROR(VLOOKUP(D27,$A$2:$C$900,3,FALSE),"") | G27: =IF(Таблица2[[#This Row],[часы суток]]="","",Теплоакумулятор!$B$14) | H27: =IF(Таблица2[[#This Row],[часы суток]]="","",Теплоакумулятор!$B$15) | I27: =IF(ISNA(MATCH(E27,$J$3:$J$10,0)),"",F27)
A28: =IF(C28="","",MAX($A$1:A27)+1) | B28: 2.6 | C28: =IF(ISNA(VLOOKUP(B28,$J$2:$M$11,4,FALSE)),IF(ISNA(VLOOKUP(B28,$K$2:$N$11,4,FALSE)),"",VLOOKUP(B28,$K$2:$N$11,4,FALSE)),VLOOKUP(B28,$J$2:$M$11,4,FALSE)) | D28: 9 | E28: =IFERROR(VLOOKUP(D28,$A$2:$C$900,2,FALSE),"") | F28: =IFERROR(VLOOKUP(D28,$A$2:$C$900,3,FALSE),"") | G28: =IF(Таблица2[[#This Row],[часы суток]]="","",Теплоакумулятор!$B$14) | H28: =IF(Таблица2[[#This Row],[часы суток]]="","",Теплоакумулятор!$B$15) | I28: =IF(ISNA(MATCH(E28,$J$3:$J$10,0)),"",F28)
A29: =IF(C29="","",MAX($A$1:A28)+1) | B29: 2.7 | C29: =IF(ISNA(VLOOKUP(B29,$J$2:$M$11,4,FALSE)),IF(ISNA(VLOOKUP(B29,$K$2:$N$11,4,FALSE)),"",VLOOKUP(B29,$K$2:$N$11,4,FALSE)),VLOOKUP(B29,$J$2:$M$11,4,FALSE)) | D29: 10 | E29: =IFERROR(VLOOKUP(D29,$A$2:$C$900,2,FALSE),"") | F29: =IFERROR(VLOOKUP(D29,$A$2:$C$900,3,FALSE),"") | G29: =IF(Таблица2[[#This Row],[часы суток]]="","",Теплоакумулятор!$B$14) | H29: =IF(Таблица2[[#This Row],[часы суток]]="","",Теплоакумулятор!$B$15) | I29: =IF(ISNA(MATCH(E29,$J$3:$J$10,0)),"",F29)
A30: =IF(C30="","",MAX($A$1:A29)+1) | B30: 2.8 | C30: =IF(ISNA(VLOOKUP(B30,$J$2:$M$11,4,FALSE)),IF(ISNA(VLOOKUP(B30,$K$2:$N$11,4,FALSE)),"",VLOOKUP(B30,$K$2:$N$11,4,FALSE)),VLOOKUP(B30,$J$2:$M$11,4,FALSE)) | D30: 11 | E30: =IFERROR(VLOOKUP(D30,$A$2:$C$900,2,FALSE),"") | F30: =IFERROR(VLOOKUP(D30,$A$2:$C$900,3,FALSE),"") | G30: =IF(Таблица2[[#This Row],[часы суток]]="","",Теплоакумулятор!$B$14) | H30: =IF(Таблица2[[#This Row],[часы суток]]="","",Теплоакумулятор!$B$15) | I30: =IF(ISNA(MATCH(E30,$J$3:$J$10,0)),"",F30)
A31: =IF(C31="","",MAX($A$1:A30)+1) | B31: 2.9 | C31: =IF(ISNA(VLOOKUP(B31,$J$2:$M$11,4,FALSE)),IF(ISNA(VLOOKUP(B31,$K$2:$N$11,4,FALSE)),"",VLOOKUP(B31,$K$2:$N$11,4,FALSE)),VLOOKUP(B31,$J$2:$M$11,4,FALSE)) | D31: 12 | E31: =IFERROR(VLOOKUP(D31,$A$2:$C$900,2,FALSE),"") | F31: =IFERROR(VLOOKUP(D31,$A$2:$C$900,3,FALSE),"") | G31: =IF(Таблица2[[#This Row],[часы суток]]="","",Теплоакумулятор!$B$14) | H31: =IF(Таблица2[[#This Row],[часы суток]]="","",Теплоакумулятор!$B$15) | I31: =IF(ISNA(MATCH(E31,$J$3:$J$10,0)),"",F31)
A32: =IF(C32="","",MAX($A$1:A31)+1) | B32: 3 | C32: =IF(ISNA(VLOOKUP(B32,$J$2:$M$11,4,FALSE)),IF(ISNA(VLOOKUP(B32,$K$2:$N$11,4,FALSE)),"",VLOOKUP(B32,$K$2:$N$11,4,FALSE)),VLOOKUP(B32,$J$2:$M$11,4,FALSE)) | D32: 13 | E32: =IFERROR(VLOOKUP(D32,$A$2:$C$900,2,FALSE),"") | F32: =IFERROR(VLOOKUP(D32,$A$2:$C$900,3,FALSE),"") | G32: =IF(Таблица2[[#This Row],[часы суток]]="","",Теплоакумулятор!$B$14) | H32: =IF(Таблица2[[#This Row],[часы суток]]="","",Теплоакумулятор!$B$15) | I32: =IF(ISNA(MATCH(E32,$J$3:$J$10,0)),"",F32)
... A35: =IF(C35="","",MAX($A$1:A34)+1) | B35: 3.3 | C35: =IF(ISNA(VLOOKUP(B35,$J$2:$M$11,4,FALSE)),IF(ISNA(VLOOKUP(B35,$K$2:$N$11,4,FALSE)),"",VLOOKUP(B35,$K$2:$N$11,4,FALSE)),VLOOKUP(B35,$J$2:$M$11,4,FALSE)) | D35: 16 | E35: =IFERROR(VLOOKUP(D35,$A$2:$C$900,2,FALSE),"") | F35: =IFERROR(VLOOKUP(D35,$A$2:$C$900,3,FALSE),"") | G35: =IF(Таблица2[[#This Row],[часы суток]]="","",Теплоакумулятор!$B$14) | H35: =IF(Таблица2[[#This Row],[часы суток]]="","",Теплоакумулятор!$B$15) | I35: =IF(ISNA(MATCH(E35,$J$3:$J$10,0)),"",F35)
A36: =IF(C36="","",MAX($A$1:A35)+1) | B36: 3.4 | C36: =IF(ISNA(VLOOKUP(B36,$J$2:$M$11,4,FALSE)),IF(ISNA(VLOOKUP(B36,$K$2:$N$11,4,FALSE)),"",VLOOKUP(B36,$K$2:$N$11,4,FALSE)),VLOOKUP(B36,$J$2:$M$11,4,FALSE))
A37: =IF(C37="","",MAX($A$1:A36)+1) | B37: 3.5 | C37: =IF(ISNA(VLOOKUP(B37,$J$2:$M$11,4,FALSE)),IF(ISNA(VLOOKUP(B37,$K$2:$N$11,4,FALSE)),"",VLOOKUP(B37,$K$2:$N$11,4,FALSE)),VLOOKUP(B37,$J$2:$M$11,4,FALSE))
A38: =IF(C38="","",MAX($A$1:A37)+1) | B38: 3.6 | C38: =IF(ISNA(VLOOKUP(B38,$J$2:$M$11,4,FALSE)),IF(ISNA(VLOOKUP(B38,$K$2:$N$11,4,FALSE)),"",VLOOKUP(B38,$K$2:$N$11,4,FALSE)),VLOOKUP(B38,$J$2:$M$11,4,FALSE))
A39: =IF(C39="","",MAX($A$1:A38)+1) | B39: 3.7 | C39: =IF(ISNA(VLOOKUP(B39,$J$2:$M$11,4,FALSE)),IF(ISNA(VLOOKUP(B39,$K$2:$N$11,4,FALSE)),"",VLOOKUP(B39,$K$2:$N$11,4,FALSE)),VLOOKUP(B39,$J$2:$M$11,4,FALSE))
A40: =IF(C40="","",MAX($A$1:A39)+1) | B40: 3.8 | C40: =IF(ISNA(VLOOKUP(B40,$J$2:$M$11,4,FALSE)),IF(ISNA(VLOOKUP(B40,$K$2:$N$11,4,FALSE)),"",VLOOKUP(B40,$K$2:$N$11,4,FALSE)),VLOOKUP(B40,$J$2:$M$11,4,FALSE))
A41: =IF(C41="","",MAX($A$1:A40)+1) | B41: 3.9 | C41: =IF(ISNA(VLOOKUP(B41,$J$2:$M$11,4,FALSE)),IF(ISNA(VLOOKUP(B41,$K$2:$N$11,4,FALSE)),"",VLOOKUP(B41,$K$2:$N$11,4,FALSE)),VLOOKUP(B41,$J$2:$M$11,4,FALSE))
A42: =IF(C42="","",MAX($A$1:A41)+1) | B42: 4 | C42: =IF(ISNA(VLOOKUP(B42,$J$2:$M$11,4,FALSE)),IF(ISNA(VLOOKUP(B42,$K$2:$N$11,4,FALSE)),"",VLOOKUP(B42,$K$2:$N$11,4,FALSE)),VLOOKUP(B42,$J$2:$M$11,4,FALSE))
A43: =IF(C43="","",MAX($A$1:A42)+1) | B43: 4.1 | C43: =IF(ISNA(VLOOKUP(B43,$J$2:$M$11,4,FALSE)),IF(ISNA(VLOOKUP(B43,$K$2:$N$11,4,FALSE)),"",VLOOKUP(B43,$K$2:$N$11,4,FALSE)),VLOOKUP(B43,$J$2:$M$11,4,FALSE))
A44: =IF(C44="","",MAX($A$1:A43)+1) | B44: 4.2 | C44: =IF(ISNA(VLOOKUP(B44,$J$2:$M$11,4,FALSE)),IF(ISNA(VLOOKUP(B44,$K$2:$N$11,4,FALSE)),"",VLOOKUP(B44,$K$2:$N$11,4,FALSE)),VLOOKUP(B44,$J$2:$M$11,4,FALSE))
A45: =IF(C45="","",MAX($A$1:A44)+1) | B45: 4.3 | C45: =IF(ISNA(VLOOKUP(B45,$J$2:$M$11,4,FALSE)),IF(ISNA(VLOOKUP(B45,$K$2:$N$11,4,FALSE)),"",VLOOKUP(B45,$K$2:$N$11,4,FALSE)),VLOOKUP(B45,$J$2:$M$11,4,FALSE))
A46: =IF(C46="","",MAX($A$1:A45)+1) | B46: 4.4 | C46: =IF(ISNA(VLOOKUP(B46,$J$2:$M$11,4,FALSE)),IF(ISNA(VLOOKUP(B46,$K$2:$N$11,4,FALSE)),"",VLOOKUP(B46,$K$2:$N$11,4,FALSE)),VLOOKUP(B46,$J$2:$M$11,4,FALSE))
A47: =IF(C47="","",MAX($A$1:A46)+1) | B47: 4.5 | C47: =IF(ISNA(VLOOKUP(B47,$J$2:$M$11,4,FALSE)),IF(ISNA(VLOOKUP(B47,$K$2:$N$11,4,FALSE)),"",VLOOKUP(B47,$K$2:$N$11,4,FALSE)),VLOOKUP(B47,$J$2:$M$11,4,FALSE))
... A242: =IF(C242="","",MAX($A$1:A241)+1) -> 6 | B242: 24 | C242: =IF(ISNA(VLOOKUP(B242,$J$2:$M$11,4,FALSE)),IF(ISNA(VLOOKUP(B242,$K$2:$N$11,4,FALSE)),"",VLOOKUP(B242,$K$2:$N$11,4,FALSE)),VLOOKUP(B242,$J$2:$M$11,4,FALSE)) -> 75.311176

Sheet Теплообменник
A1: Коссвенный водонагреватель
A2: http://stroy-shkola.ru/vodosnab_otopl/boyler-kosvennogo-nagreva-svoimi-rukami.html
A3: Расчет длины трубы для бойлера
A10: Отопление черной трубой
A11: Р-мощность змеевика, кВт | B11: 10
A12: d -диаметр трубы | B12: 0.05
A13: /\Т - разность темп.теплоносителя и воды бака | B13: 5
A14: Площадь | B14: =3.14*B12*B15 -> 2
A15: L - дляина трубы | B15: =B11/(3.14*B12*B13) -> 12.738854
A19: ГВС
A20: Р-мощность змеевика, кВт | B20: 10
A21: d -диаметр трубы | B21: 0.04
A22: /\Т - разность темп.теплоносителя и воды бака | B22: 40
A23: Площадь | B23: =3.14*B21*B24 -> 0.25
A24: L - дляина трубы | B24: =B20/(3.14*B21*B22) -> 1.9904459
A30: Расчет мощности регистра котла
A31: http://forum.stovemaster.ru/viewtopic.php?t=5241 | D31: теплопотери, вт = (площадь, м2 /Сопротивление теплопередаче ограждения R, u2*C/Вт)*разность температуры
D33: Теплоемкость Водяного ТА, кВт/ч | E33: =Теплоакумулятор!B54 -> 49
D34: Теплоемкость Кирпичного ТА, кВт/ч | E34: =Теплоакумулятор!B55 -> 108.33333
B49: Начало процесса Т.обмена | C49: Конец процесса
A50: Площадь регистра, м2 | B50: 4 | C50: 4
A51: Температура газов протопленной печи (средняя) | B51: 500 | C51: 100
A52: Температура воды регистра (средняя) | B52: 70 | C52: 40
A53: Мощность регистра, кВт/час | B53: =(13.96*(B51-B52)*B50)/1000 -> 24.0112 | C53: =(13.96*(C51-C52)*C50)/1000 -> 3.3504
